BEGIN:VCALENDAR
VERSION:2.0
PRODID:-//https://carl-funke-schule.de//NONSGML kigkonsult.se iCalcreator 2.41.71//
CALSCALE:GREGORIAN
METHOD:PUBLISH
UID:33353536-3537-4262-b962-653537366164
X-WR-CALNAME:JCal Pro Kalender
X-WR-CALDESC:Ihr Online-Terminkalender
X-WR-TIMEZONE:Europe/Berlin
BEGIN:VTIMEZONE
TZID:Europe/Berlin
TZUNTIL:20271031T010000Z
BEGIN:STANDARD
TZNAME:CET
DTSTART:20251026T030000
TZOFFSETFROM:+0200
TZOFFSETTO:+0100
RDATE:20261025T030000
END:STANDARD
BEGIN:DAYLIGHT
TZNAME:CEST
DTSTART:20260329T020000
TZOFFSETFROM:+0100
TZOFFSETTO:+0200
RDATE:20270328T020000
END:DAYLIGHT
END:VTIMEZONE
BEGIN:VEVENT
UID:20230622T080000CEST-1613BpA2jm@https://www.Carl-Funke-Schule.de/
DTSTAMP:20260424T101904Z
CATEGORIES:Ferien
DTSTART;TZID=Europe/Berlin:20230717T000000
DTEND;TZID=Europe/Berlin:20230717T235959
SUMMARY:Sommerferien
URL:https://carl-funke-schule.de/index.php/kalender/12-ferien/224-sommerfer
 ien
END:VEVENT
END:VCALENDAR
