BEGIN:VCALENDAR
VERSION:2.0
PRODID:-//https://carl-funke-schule.de//NONSGML kigkonsult.se iCalcreator 2.41.71//
CALSCALE:GREGORIAN
METHOD:PUBLISH
UID:65303337-3864-4366-a135-663066663666
X-WR-CALNAME:JCal Pro Kalender
X-WR-CALDESC:Ihr Online-Terminkalender
X-WR-TIMEZONE:Europe/Berlin
BEGIN:VTIMEZONE
TZID:Europe/Berlin
TZUNTIL:20271031T010000Z
BEGIN:STANDARD
TZNAME:CET
DTSTART:20251026T030000
TZOFFSETFROM:+0200
TZOFFSETTO:+0100
RDATE:20261025T030000
END:STANDARD
BEGIN:DAYLIGHT
TZNAME:CEST
DTSTART:20260329T020000
TZOFFSETFROM:+0100
TZOFFSETTO:+0200
RDATE:20270328T020000
END:DAYLIGHT
END:VTIMEZONE
BEGIN:VEVENT
UID:20220317T000000CET-4861oKFV8h@https://www.Carl-Funke-Schule.de/
DTSTAMP:20260424T132530Z
CATEGORIES:Carl-Funke-Schule
DTSTART;TZID=Europe/Berlin:20220317T080000
DTEND;TZID=Europe/Berlin:20220317T120000
SUMMARY:Fahrradtraining mit der Jugendverkehrsschule  3a und 3b
URL:https://carl-funke-schule.de/index.php/kalender/9-carl-funke-schule/72-
 fahrradtraining-mit-der-jugendverkehrsschule-3a-und-3b
END:VEVENT
END:VCALENDAR
