BEGIN:VCALENDAR
VERSION:2.0
PRODID:-//https://carl-funke-schule.de//NONSGML kigkonsult.se iCalcreator 2.41.71//
CALSCALE:GREGORIAN
METHOD:PUBLISH
UID:35393762-3066-4863-a266-313563393463
X-WR-CALNAME:JCal Pro Kalender
X-WR-CALDESC:Ihr Online-Terminkalender
X-WR-TIMEZONE:Europe/Berlin
BEGIN:VTIMEZONE
TZID:Europe/Berlin
TZUNTIL:20271031T010000Z
BEGIN:STANDARD
TZNAME:CET
DTSTART:20251026T030000
TZOFFSETFROM:+0200
TZOFFSETTO:+0100
RDATE:20261025T030000
END:STANDARD
BEGIN:DAYLIGHT
TZNAME:CEST
DTSTART:20260329T020000
TZOFFSETFROM:+0100
TZOFFSETTO:+0200
RDATE:20270328T020000
END:DAYLIGHT
END:VTIMEZONE
BEGIN:VEVENT
UID:20220606T000000CEST-2985OWTZHz@https://www.Carl-Funke-Schule.de/
DTSTAMP:20260425T164127Z
CATEGORIES:Carl-Funke-Schule
DTSTART;TZID=Europe/Berlin:20220606T000000
DTEND;TZID=Europe/Berlin:20220611T000000
SUMMARY:Segelwoche 4a
URL:https://carl-funke-schule.de/index.php/kalender/9-carl-funke-schule/85-
 segelwoche-4a
END:VEVENT
BEGIN:VEVENT
UID:20220608T190000CEST-0234ECtobZ@https://www.ghitulescu.de/beta/CFS/
DTSTAMP:20260425T164127Z
CATEGORIES:Carl-Funke-Schule
DTSTART;TZID=Europe/Berlin:20220608T183000
DTEND;TZID=Europe/Berlin:20220608T193000
SUMMARY:Informationsabend für die Eltern der Schulanfänger*innen
URL:https://carl-funke-schule.de/index.php/kalender/9-carl-funke-schule/28-
 informationsabend-fuer-die-eltern-der-schulanfaenger-innen
END:VEVENT
END:VCALENDAR
