BEGIN:VCALENDAR
VERSION:2.0
PRODID:-//https://carl-funke-schule.de//NONSGML kigkonsult.se iCalcreator 2.41.71//
CALSCALE:GREGORIAN
METHOD:PUBLISH
UID:37383432-6231-4638-b436-343832646637
X-WR-CALNAME:JCal Pro Kalender
X-WR-CALDESC:Ihr Online-Terminkalender
X-WR-TIMEZONE:Europe/Berlin
BEGIN:VTIMEZONE
TZID:Europe/Berlin
TZUNTIL:20271031T010000Z
BEGIN:STANDARD
TZNAME:CET
DTSTART:20251026T030000
TZOFFSETFROM:+0200
TZOFFSETTO:+0100
RDATE:20261025T030000
END:STANDARD
BEGIN:DAYLIGHT
TZNAME:CEST
DTSTART:20260329T020000
TZOFFSETFROM:+0100
TZOFFSETTO:+0200
RDATE:20270328T020000
END:DAYLIGHT
END:VTIMEZONE
BEGIN:VEVENT
UID:20220616T170000CEST-4183U9IVA9@https://www.ghitulescu.de/beta/CFS/
DTSTAMP:20260424T231053Z
CATEGORIES:Feiertag
DTSTART;TZID=Europe/Berlin:20220616T000000
DTEND;TZID=Europe/Berlin:20220616T235959
SUMMARY:Fronleichnam
URL:https://carl-funke-schule.de/index.php/kalender/11-feiertag/29-fronleic
 hnam
END:VEVENT
END:VCALENDAR
