BEGIN:VCALENDAR
VERSION:2.0
PRODID:-//https://carl-funke-schule.de//NONSGML kigkonsult.se iCalcreator 2.41.71//
CALSCALE:GREGORIAN
METHOD:PUBLISH
UID:61656532-3830-4637-b831-373966346564
X-WR-CALNAME:JCal Pro Kalender
X-WR-CALDESC:Ihr Online-Terminkalender
X-WR-TIMEZONE:Europe/Berlin
BEGIN:VTIMEZONE
TZID:Europe/Berlin
TZUNTIL:20271031T010000Z
BEGIN:STANDARD
TZNAME:CET
DTSTART:20251026T030000
TZOFFSETFROM:+0200
TZOFFSETTO:+0100
RDATE:20261025T030000
END:STANDARD
BEGIN:DAYLIGHT
TZNAME:CEST
DTSTART:20260329T020000
TZOFFSETFROM:+0100
TZOFFSETTO:+0200
RDATE:20270328T020000
END:DAYLIGHT
END:VTIMEZONE
BEGIN:VEVENT
UID:20230930T160000CEST-7568V4I8b4@https://www.Carl-Funke-Schule.de/
DTSTAMP:20260425T114231Z
CATEGORIES:Ferien
DTSTART;TZID=Europe/Berlin:20231002T000000
DTEND;TZID=Europe/Berlin:20231002T235959
RRULE:FREQ=DAILY;UNTIL=20231012T220000Z;INTERVAL=1
SUMMARY:Herbstferien
URL:https://carl-funke-schule.de/index.php/kalender/12-ferien/285-herbstfer
 ien
END:VEVENT
END:VCALENDAR
