BEGIN:VCALENDAR
VERSION:2.0
PRODID:-//https://carl-funke-schule.de//NONSGML kigkonsult.se iCalcreator 2.41.71//
CALSCALE:GREGORIAN
METHOD:PUBLISH
UID:35636432-3235-4366-b433-643066346666
X-WR-CALNAME:JCal Pro Kalender
X-WR-CALDESC:Ihr Online-Terminkalender
X-WR-TIMEZONE:Europe/Berlin
BEGIN:VTIMEZONE
TZID:Europe/Berlin
TZUNTIL:20271031T010000Z
BEGIN:STANDARD
TZNAME:CET
DTSTART:20251026T030000
TZOFFSETFROM:+0200
TZOFFSETTO:+0100
RDATE:20261025T030000
END:STANDARD
BEGIN:DAYLIGHT
TZNAME:CEST
DTSTART:20260329T020000
TZOFFSETFROM:+0100
TZOFFSETTO:+0200
RDATE:20270328T020000
END:DAYLIGHT
END:VTIMEZONE
BEGIN:VEVENT
UID:20240904T080000UTC-4253CaCdA3@https://www.carl-funke-schule.de/
DTSTAMP:20260424T132545Z
CATEGORIES:Carl-Funke-Schule
DTSTART;TZID=Europe/Berlin:20240904T080000
DTEND;TZID=Europe/Berlin:20240904T090000
SUMMARY:Fototermine erste Schuljahre
URL:https://carl-funke-schule.de/index.php/kalender/9-carl-funke-schule/409
 -fototermine-erste-schuljahre
END:VEVENT
BEGIN:VEVENT
UID:20240904T190000UTC-299782HnZk@https://www.carl-funke-schule.de/
DTSTAMP:20260424T132545Z
CATEGORIES:Carl-Funke-Schule
DTSTART;TZID=Europe/Berlin:20240904T000000
DTEND;TZID=Europe/Berlin:20240904T235959
SUMMARY:Schulfotografin Klasse 1
URL:https://carl-funke-schule.de/index.php/kalender/9-carl-funke-schule/417
 -schulfotografin-klasse-1
END:VEVENT
END:VCALENDAR
