BEGIN:VCALENDAR
VERSION:2.0
PRODID:-//https://carl-funke-schule.de//NONSGML kigkonsult.se iCalcreator 2.41.71//
CALSCALE:GREGORIAN
METHOD:PUBLISH
UID:32633666-6566-4665-b230-336135353764
X-WR-CALNAME:JCal Pro Kalender
X-WR-CALDESC:Ihr Online-Terminkalender
X-WR-TIMEZONE:Europe/Berlin
BEGIN:VTIMEZONE
TZID:Europe/Berlin
TZUNTIL:20271031T010000Z
BEGIN:STANDARD
TZNAME:CET
DTSTART:20251026T030000
TZOFFSETFROM:+0200
TZOFFSETTO:+0100
RDATE:20261025T030000
END:STANDARD
BEGIN:DAYLIGHT
TZNAME:CEST
DTSTART:20260329T020000
TZOFFSETFROM:+0100
TZOFFSETTO:+0200
RDATE:20270328T020000
END:DAYLIGHT
END:VTIMEZONE
BEGIN:VEVENT
UID:20221103T190000CET-7830HfUZlC@https://www.Carl-Funke-Schule.de/
DTSTAMP:20260424T230529Z
CATEGORIES:Carl-Funke-Schule
DTSTART;TZID=Europe/Berlin:20221103T190000
DTEND;TZID=Europe/Berlin:20221103T200000
SUMMARY:Sitzung Beisitzer des Fördervereins
URL:https://carl-funke-schule.de/index.php/kalender/9-carl-funke-schule/114
 -sitzung-beisitzer-des-foerdervereins
END:VEVENT
BEGIN:VEVENT
UID:20221107T000000CET-07886vvhLV@https://www.Carl-Funke-Schule.de/
DTSTAMP:20260424T230529Z
CATEGORIES:Carl-Funke-Schule
DTSTART;TZID=Europe/Berlin:20221107T000000
DTEND;TZID=Europe/Berlin:20221118T000000
SUMMARY:Elternsprechtagswoche Klasse 1\, 2 und 3
URL:https://carl-funke-schule.de/index.php/kalender/9-carl-funke-schule/115
 -elternsprechtagswoche-klasse-1-2-und-3
END:VEVENT
BEGIN:VEVENT
UID:20221111T080000CET-2438I2C64M@https://www.Carl-Funke-Schule.de/
DTSTAMP:20260424T230529Z
CATEGORIES:Carl-Funke-Schule
DTSTART;TZID=Europe/Berlin:20221111T080000
DTEND;TZID=Europe/Berlin:20221111T084500
SUMMARY:Schulgottesdienst 4. Schuljahr
URL:https://carl-funke-schule.de/index.php/kalender/9-carl-funke-schule/168
 -schulgottesdienst-3-4-schuljahr
END:VEVENT
BEGIN:VEVENT
UID:20221121T080000CET-9830V3M5Uc@https://www.Carl-Funke-Schule.de/
DTSTAMP:20260424T230529Z
CATEGORIES:Carl-Funke-Schule
DTSTART;TZID=Europe/Berlin:20221123T000000
DTEND;TZID=Europe/Berlin:20221123T235959
SUMMARY:Pädagogischer Planungstag der Schule und der OGS (keine Betreuung)
URL:https://carl-funke-schule.de/index.php/kalender/9-carl-funke-schule/116
 -paedagogischer-planungstag-der-schule-und-der-ogs-keine-betreuung
END:VEVENT
BEGIN:VEVENT
UID:20221125T080000CET-60593i8ww6@https://www.Carl-Funke-Schule.de/
DTSTAMP:20260424T230529Z
CATEGORIES:Carl-Funke-Schule
DTSTART;TZID=Europe/Berlin:20221125T080000
DTEND;TZID=Europe/Berlin:20221125T084500
SUMMARY:Schulgottesdienst 4. Schuljahr (Pauluskirche)
URL:https://carl-funke-schule.de/index.php/kalender/9-carl-funke-schule/171
 -schulgottesdienst-3-4-schuljahr-pauluskirche
END:VEVENT
END:VCALENDAR
