BEGIN:VCALENDAR
VERSION:2.0
PRODID:-//https://carl-funke-schule.de//NONSGML kigkonsult.se iCalcreator 2.41.71//
CALSCALE:GREGORIAN
METHOD:PUBLISH
UID:61376266-3935-4436-b966-353064373939
X-WR-CALNAME:JCal Pro Kalender
X-WR-CALDESC:Ihr Online-Terminkalender
X-WR-TIMEZONE:Europe/Berlin
BEGIN:VTIMEZONE
TZID:Europe/Berlin
TZUNTIL:20271031T010000Z
BEGIN:STANDARD
TZNAME:CET
DTSTART:20251026T030000
TZOFFSETFROM:+0200
TZOFFSETTO:+0100
RDATE:20261025T030000
END:STANDARD
BEGIN:DAYLIGHT
TZNAME:CEST
DTSTART:20260329T020000
TZOFFSETFROM:+0100
TZOFFSETTO:+0200
RDATE:20270328T020000
END:DAYLIGHT
END:VTIMEZONE
BEGIN:VEVENT
UID:20230622T080000CEST-1613BpA2jm@https://www.Carl-Funke-Schule.de/
DTSTAMP:20260424T211450Z
CATEGORIES:Ferien
DTSTART;TZID=Europe/Berlin:20230622T000000
DTEND;TZID=Europe/Berlin:20230622T235959
RRULE:FREQ=DAILY;UNTIL=20230803T220000Z;INTERVAL=1
SUMMARY:Sommerferien
URL:https://carl-funke-schule.de/index.php/kalender/12-ferien/199-sommerfer
 ien
END:VEVENT
BEGIN:VEVENT
UID:20230808T090000CEST-6823CZvcVn@https://www.Carl-Funke-Schule.de/
DTSTAMP:20260424T211450Z
CATEGORIES:Carl-Funke-Schule
DTSTART;TZID=Europe/Berlin:20230808T090000
DTEND;TZID=Europe/Berlin:20230808T094000
SUMMARY:Einschulungsgottesdienst Pauluskirche
URL:https://carl-funke-schule.de/index.php/kalender/9-carl-funke-schule/280
 -einschulungsgottesdienst-pauluskirche
END:VEVENT
BEGIN:VEVENT
UID:20230808T100000CEST-3837cA02cN@https://www.Carl-Funke-Schule.de/
DTSTAMP:20260424T211450Z
CATEGORIES:Carl-Funke-Schule
DTSTART;TZID=Europe/Berlin:20230808T100000
DTEND;TZID=Europe/Berlin:20230808T120000
SUMMARY:Einschulungsfeier Carl-Funke-Schule
URL:https://carl-funke-schule.de/index.php/kalender/9-carl-funke-schule/281
 -einschulungsfeier
END:VEVENT
BEGIN:VEVENT
UID:20230815T190000UTC-8148ADbZJV@https://www.carl-funke-schule.de/
DTSTAMP:20260424T211450Z
CATEGORIES:Carl-Funke-Schule
DTSTART;TZID=Europe/Berlin:20230815T190000
DTEND;TZID=Europe/Berlin:20230815T210000
SUMMARY:Elternabend 1 a b und c
URL:https://carl-funke-schule.de/index.php/kalender/9-carl-funke-schule/365
 -elternabend-1-a-b-und-c
END:VEVENT
BEGIN:VEVENT
UID:20230821T080000UTC-20423nPs7E@https://www.carl-funke-schule.de/
DTSTAMP:20260424T211450Z
CATEGORIES:Carl-Funke-Schule
DTSTART;TZID=Europe/Berlin:20230821T080000
DTEND;TZID=Europe/Berlin:20230823T140000
SUMMARY:Klassenfahrt der 4. Schuljahre
URL:https://carl-funke-schule.de/index.php/kalender/9-carl-funke-schule/339
 -klassenfahrt-der-4-schuljahre
END:VEVENT
BEGIN:VEVENT
UID:20230824T180000UTC-3633r7DZcz@https://www.carl-funke-schule.de/
DTSTAMP:20260424T211450Z
CATEGORIES:Carl-Funke-Schule
DTSTART;TZID=Europe/Berlin:20230824T000000
DTEND;TZID=Europe/Berlin:20230824T235959
SUMMARY:Fördervereinssitzung
URL:https://carl-funke-schule.de/index.php/kalender/9-carl-funke-schule/340
 -foerdervereinssitzung
END:VEVENT
END:VCALENDAR
