BEGIN:VCALENDAR
VERSION:2.0
PRODID:-//https://carl-funke-schule.de//NONSGML kigkonsult.se iCalcreator 2.41.71//
CALSCALE:GREGORIAN
METHOD:PUBLISH
UID:36613037-3161-4832-a135-303930633961
X-WR-CALNAME:JCal Pro Kalender
X-WR-CALDESC:Ihr Online-Terminkalender
X-WR-TIMEZONE:Europe/Berlin
BEGIN:VTIMEZONE
TZID:Europe/Berlin
TZUNTIL:20271031T010000Z
BEGIN:STANDARD
TZNAME:CET
DTSTART:20251026T030000
TZOFFSETFROM:+0200
TZOFFSETTO:+0100
RDATE:20261025T030000
END:STANDARD
BEGIN:DAYLIGHT
TZNAME:CEST
DTSTART:20260329T020000
TZOFFSETFROM:+0100
TZOFFSETTO:+0200
RDATE:20270328T020000
END:DAYLIGHT
END:VTIMEZONE
BEGIN:VEVENT
UID:20211224T170000CET-71891I6CS1@https://www.ghitulescu.de/beta/CFS/
DTSTAMP:20260424T154845Z
CATEGORIES:Ferien
DTSTART;TZID=Europe/Berlin:20211224T000000
DTEND;TZID=Europe/Berlin:20211224T235959
SUMMARY:Weihnachtsferien
URL:https://carl-funke-schule.de/index.php/kalender/12-ferien/14-weihnachts
 ferien
END:VEVENT
END:VCALENDAR
