BEGIN:VCALENDAR
VERSION:2.0
PRODID:-//https://carl-funke-schule.de//NONSGML kigkonsult.se iCalcreator 2.41.71//
CALSCALE:GREGORIAN
METHOD:PUBLISH
UID:61373563-6162-4039-b462-316664336661
X-WR-CALNAME:JCal Pro Kalender
X-WR-CALDESC:Ihr Online-Terminkalender
X-WR-TIMEZONE:Europe/Berlin
BEGIN:VTIMEZONE
TZID:Europe/Berlin
TZUNTIL:20271031T010000Z
BEGIN:STANDARD
TZNAME:CET
DTSTART:20251026T030000
TZOFFSETFROM:+0200
TZOFFSETTO:+0100
RDATE:20261025T030000
END:STANDARD
BEGIN:DAYLIGHT
TZNAME:CEST
DTSTART:20260329T020000
TZOFFSETFROM:+0100
TZOFFSETTO:+0200
RDATE:20270328T020000
END:DAYLIGHT
END:VTIMEZONE
BEGIN:VEVENT
UID:20220117T080000CET-0984Zm8BEZ@https://www.ghitulescu.de/beta/CFS/
DTSTAMP:20260425T023306Z
CATEGORIES:Carl-Funke-Schule
DESCRIPTION:<p>Schule &amp\; OGS geschlossen</p>
DTSTART;TZID=Europe/Berlin:20220117T000000
DTEND;TZID=Europe/Berlin:20220117T235959
SUMMARY:pädagogischer Planungstag
URL:https://carl-funke-schule.de/index.php/kalender/9-carl-funke-schule/8-p
 aedagogischer-planungstag
X-ALT-DESC;FMTTYPE=TEXT/HTML:<p>Schule &amp\; OGS geschlossen</p>
END:VEVENT
END:VCALENDAR
