BEGIN:VCALENDAR
VERSION:2.0
PRODID:-//https://carl-funke-schule.de//NONSGML kigkonsult.se iCalcreator 2.41.71//
CALSCALE:GREGORIAN
METHOD:PUBLISH
UID:37323232-3333-4163-b332-653063636538
X-WR-CALNAME:JCal Pro Kalender
X-WR-CALDESC:Ihr Online-Terminkalender
X-WR-TIMEZONE:Europe/Berlin
BEGIN:VTIMEZONE
TZID:Europe/Berlin
TZUNTIL:20271031T010000Z
BEGIN:STANDARD
TZNAME:CET
DTSTART:20251026T030000
TZOFFSETFROM:+0200
TZOFFSETTO:+0100
RDATE:20261025T030000
END:STANDARD
BEGIN:DAYLIGHT
TZNAME:CEST
DTSTART:20260329T020000
TZOFFSETFROM:+0100
TZOFFSETTO:+0200
RDATE:20270328T020000
END:DAYLIGHT
END:VTIMEZONE
BEGIN:VEVENT
UID:20220919T080000CEST-3243uJi5f2@https://www.Carl-Funke-Schule.de/
DTSTAMP:20260425T164106Z
CATEGORIES:Carl-Funke-Schule
DTSTART;TZID=Europe/Berlin:20220919T080000
DTEND;TZID=Europe/Berlin:20220919T120000
SUMMARY:Klassenzimmertheater 'Frau Holle weiß nicht weiter'
URL:https://carl-funke-schule.de/index.php/kalender/9-carl-funke-schule/173
 -klassenzimmertheater-frau-holle-weiss-nicht-weiter
END:VEVENT
BEGIN:VEVENT
UID:20220923T160000CEST-5211HtVCNb@https://www.Carl-Funke-Schule.de/
DTSTAMP:20260425T164106Z
CATEGORIES:Carl-Funke-Schule
DTSTART;TZID=Europe/Berlin:20220923T160000
DTEND;TZID=Europe/Berlin:20220924T130000
SUMMARY:Allerlei-Sachen-Markt
URL:https://carl-funke-schule.de/index.php/kalender/9-carl-funke-schule/110
 -allerlei-sachen-markt
END:VEVENT
END:VCALENDAR
