BEGIN:VCALENDAR
VERSION:2.0
PRODID:-//https://carl-funke-schule.de//NONSGML kigkonsult.se iCalcreator 2.41.71//
CALSCALE:GREGORIAN
METHOD:PUBLISH
UID:66336331-3763-4830-a534-316133366564
X-WR-CALNAME:JCal Pro Kalender
X-WR-CALDESC:Ihr Online-Terminkalender
X-WR-TIMEZONE:Europe/Berlin
BEGIN:VTIMEZONE
TZID:Europe/Berlin
TZUNTIL:20271031T010000Z
BEGIN:STANDARD
TZNAME:CET
DTSTART:20251026T030000
TZOFFSETFROM:+0200
TZOFFSETTO:+0100
RDATE:20261025T030000
END:STANDARD
BEGIN:DAYLIGHT
TZNAME:CEST
DTSTART:20260329T020000
TZOFFSETFROM:+0100
TZOFFSETTO:+0200
RDATE:20270328T020000
END:DAYLIGHT
END:VTIMEZONE
BEGIN:VEVENT
UID:20240212T080000UTC-4880ks1CUp@https://www.carl-funke-schule.de/
DTSTAMP:20260425T145938Z
CATEGORIES:Feiertag
DTSTART;TZID=Europe/Berlin:20240212T000000
DTEND;TZID=Europe/Berlin:20240212T235959
SUMMARY:Rosenmontag
URL:https://carl-funke-schule.de/index.php/kalender/11-feiertag/347-rosenmo
 ntag
END:VEVENT
BEGIN:VEVENT
UID:20240213T080000UTC-1030d9Vv7S@https://www.carl-funke-schule.de/
DTSTAMP:20260425T145938Z
CATEGORIES:Ferien
DTSTART;TZID=Europe/Berlin:20240213T000000
DTEND;TZID=Europe/Berlin:20240213T235959
SUMMARY:Veilchendienstag - beweglicher Ferientag
URL:https://carl-funke-schule.de/index.php/kalender/12-ferien/348-veilchend
 ienstag-beweglicher-ferientag
END:VEVENT
END:VCALENDAR
