BEGIN:VCALENDAR
VERSION:2.0
PRODID:-//https://carl-funke-schule.de//NONSGML kigkonsult.se iCalcreator 2.41.71//
CALSCALE:GREGORIAN
METHOD:PUBLISH
UID:37313733-6435-4339-b831-623065613262
X-WR-CALNAME:JCal Pro Kalender
X-WR-CALDESC:Ihr Online-Terminkalender
X-WR-TIMEZONE:Europe/Berlin
BEGIN:VTIMEZONE
TZID:Europe/Berlin
TZUNTIL:20271031T010000Z
BEGIN:STANDARD
TZNAME:CET
DTSTART:20251026T030000
TZOFFSETFROM:+0200
TZOFFSETTO:+0100
RDATE:20261025T030000
END:STANDARD
BEGIN:DAYLIGHT
TZNAME:CEST
DTSTART:20260329T020000
TZOFFSETFROM:+0100
TZOFFSETTO:+0200
RDATE:20270328T020000
END:DAYLIGHT
END:VTIMEZONE
BEGIN:VEVENT
UID:20240410T084500UTC-7435V6JZfi@https://www.carl-funke-schule.de/
DTSTAMP:20260425T112243Z
CATEGORIES:Carl-Funke-Schule
DESCRIPTION:<p>Kita Hemsingkotten</p>
DTSTART;TZID=Europe/Berlin:20240410T084500
DTEND;TZID=Europe/Berlin:20240410T100000
SUMMARY:Schnuppertag KiTa Hemsingkotten
URL:https://carl-funke-schule.de/index.php/kalender/9-carl-funke-schule/373
 -schnuppertage-in-der-carl-funke-schule
X-ALT-DESC;FMTTYPE=TEXT/HTML:<p>Kita Hemsingkotten</p>
END:VEVENT
BEGIN:VEVENT
UID:20240411T084500UTC-3065wUgwxK@https://www.carl-funke-schule.de/
DTSTAMP:20260425T112243Z
CATEGORIES:Carl-Funke-Schule
DTSTART;TZID=Europe/Berlin:20240411T084500
DTEND;TZID=Europe/Berlin:20240411T100000
SUMMARY:Schnuppertag KiTa Stemmering
URL:https://carl-funke-schule.de/index.php/kalender/9-carl-funke-schule/374
 -schnuppertag-kita-stemmering
END:VEVENT
BEGIN:VEVENT
UID:20240411T180000UTC-0087E6RJ3e@https://www.carl-funke-schule.de/
DTSTAMP:20260425T112243Z
CATEGORIES:Carl-Funke-Schule
DTSTART;TZID=Europe/Berlin:20240411T180000
DTEND;TZID=Europe/Berlin:20240411T190000
SUMMARY:Schulpflegschaft
URL:https://carl-funke-schule.de/index.php/kalender/9-carl-funke-schule/405
 -schulpflegschaft
END:VEVENT
BEGIN:VEVENT
UID:20240411T200000UTC-9131Trn26o@https://www.carl-funke-schule.de/
DTSTAMP:20260425T112243Z
CATEGORIES:Carl-Funke-Schule
DTSTART;TZID=Europe/Berlin:20240411T200000
DTEND;TZID=Europe/Berlin:20240411T210000
SUMMARY:Schulkonferenz
URL:https://carl-funke-schule.de/index.php/kalender/9-carl-funke-schule/406
 -schulkonferenz
END:VEVENT
END:VCALENDAR
