BEGIN:VCALENDAR
VERSION:2.0
PRODID:-//https://carl-funke-schule.de//NONSGML kigkonsult.se iCalcreator 2.41.71//
CALSCALE:GREGORIAN
METHOD:PUBLISH
UID:36366236-6234-4333-a436-316631643963
X-WR-CALNAME:JCal Pro Kalender
X-WR-CALDESC:Ihr Online-Terminkalender
X-WR-TIMEZONE:Europe/Berlin
BEGIN:VTIMEZONE
TZID:Europe/Berlin
TZUNTIL:20271031T010000Z
BEGIN:STANDARD
TZNAME:CET
DTSTART:20251026T030000
TZOFFSETFROM:+0200
TZOFFSETTO:+0100
RDATE:20261025T030000
END:STANDARD
BEGIN:DAYLIGHT
TZNAME:CEST
DTSTART:20260329T020000
TZOFFSETFROM:+0100
TZOFFSETTO:+0200
RDATE:20270328T020000
END:DAYLIGHT
END:VTIMEZONE
BEGIN:VEVENT
UID:20240708T000000UTC-6260Bt9JO4@https://www.carl-funke-schule.de/
DTSTAMP:20260424T083117Z
CATEGORIES:Ferien
DTSTART;TZID=Europe/Berlin:20240708T000000
DTEND;TZID=Europe/Berlin:20240821T000000
SUMMARY:Sommerferien
URL:https://carl-funke-schule.de/index.php/kalender/12-ferien/429-sommerfer
 ien
END:VEVENT
BEGIN:VEVENT
UID:20240822T100000UTC-0615TLj4nE@https://www.carl-funke-schule.de/
DTSTAMP:20260424T083117Z
CATEGORIES:Carl-Funke-Schule
DTSTART;TZID=Europe/Berlin:20240822T100000
DTEND;TZID=Europe/Berlin:20240822T100000
SUMMARY:Einschulung (Einschulungsgottesdienst um 9.00 Uhr)
URL:https://carl-funke-schule.de/index.php/kalender/9-carl-funke-schule/416
 -einschulung-einschulungsgottesdienst-um-9-00-uhr
END:VEVENT
END:VCALENDAR
