BEGIN:VCALENDAR
VERSION:2.0
PRODID:-//https://carl-funke-schule.de//NONSGML kigkonsult.se iCalcreator 2.41.71//
CALSCALE:GREGORIAN
METHOD:PUBLISH
UID:36393937-6433-4330-b831-663236363465
X-WR-CALNAME:JCal Pro Kalender
X-WR-CALDESC:Ihr Online-Terminkalender
X-WR-TIMEZONE:Europe/Berlin
BEGIN:VTIMEZONE
TZID:Europe/Berlin
TZUNTIL:20271031T010000Z
BEGIN:STANDARD
TZNAME:CET
DTSTART:20251026T030000
TZOFFSETFROM:+0200
TZOFFSETTO:+0100
RDATE:20261025T030000
END:STANDARD
BEGIN:DAYLIGHT
TZNAME:CEST
DTSTART:20260329T020000
TZOFFSETFROM:+0100
TZOFFSETTO:+0200
RDATE:20270328T020000
END:DAYLIGHT
END:VTIMEZONE
BEGIN:VEVENT
UID:20220210T160000CET-5941xWWnw9@https://www.Carl-Funke-Schule.de/
DTSTAMP:20260424T142025Z
CATEGORIES:Carl-Funke-Schule
DTSTART;TZID=Europe/Berlin:20220310T180000
DTEND;TZID=Europe/Berlin:20220310T194500
SUMMARY:Schulpflegschaft
URL:https://carl-funke-schule.de/index.php/kalender/9-carl-funke-schule/47-
 schulpflegschaft
END:VEVENT
BEGIN:VEVENT
UID:20220207T000000CET-0407zUu1vG@https://www.Carl-Funke-Schule.de/
DTSTAMP:20260424T142025Z
CATEGORIES:Carl-Funke-Schule
DTSTART;TZID=Europe/Berlin:20220310T200000
DTEND;TZID=Europe/Berlin:20220310T210000
SUMMARY:Schulkonferenz
URL:https://carl-funke-schule.de/index.php/kalender/9-carl-funke-schule/48-
 schulkonferenz
END:VEVENT
BEGIN:VEVENT
UID:20220313T150000CET-54485tL8vf@https://www.Carl-Funke-Schule.de/
DTSTAMP:20260424T142025Z
CATEGORIES:Carl-Funke-Schule
DTSTART;TZID=Europe/Berlin:20220313T150000
DTEND;TZID=Europe/Berlin:20220313T160000
SUMMARY:Lehrerausflug
URL:https://carl-funke-schule.de/index.php/kalender/9-carl-funke-schule/74-
 lehrerausflug
END:VEVENT
BEGIN:VEVENT
UID:20220317T000000CET-4861oKFV8h@https://www.Carl-Funke-Schule.de/
DTSTAMP:20260424T142025Z
CATEGORIES:Carl-Funke-Schule
DTSTART;TZID=Europe/Berlin:20220317T080000
DTEND;TZID=Europe/Berlin:20220317T120000
SUMMARY:Fahrradtraining mit der Jugendverkehrsschule  3a und 3b
URL:https://carl-funke-schule.de/index.php/kalender/9-carl-funke-schule/72-
 fahrradtraining-mit-der-jugendverkehrsschule-3a-und-3b
END:VEVENT
BEGIN:VEVENT
UID:20220318T080000CET-1159ZrSsvR@https://www.Carl-Funke-Schule.de/
DTSTAMP:20260424T142025Z
CATEGORIES:Carl-Funke-Schule
DTSTART;TZID=Europe/Berlin:20220318T080000
DTEND;TZID=Europe/Berlin:20220318T100000
SUMMARY:Fahrradtraining mit der Jugendverkehrsschule  3c
URL:https://carl-funke-schule.de/index.php/kalender/9-carl-funke-schule/73-
 fahrradtraining-mit-der-jugendverkehrsschule-3c
END:VEVENT
BEGIN:VEVENT
UID:20220321T000000CET-5034EbuetE@https://www.Carl-Funke-Schule.de/
DTSTAMP:20260424T142025Z
CATEGORIES:Carl-Funke-Schule
DTSTART;TZID=Europe/Berlin:20220321T000000
DTEND;TZID=Europe/Berlin:20220321T235959
SUMMARY:Beweglicher Ferientag
URL:https://carl-funke-schule.de/index.php/kalender/9-carl-funke-schule/97-
 beweglicher-ferientag
END:VEVENT
BEGIN:VEVENT
UID:20220328T000000CEST-2281I6vwkv@https://www.Carl-Funke-Schule.de/
DTSTAMP:20260424T142025Z
CATEGORIES:Carl-Funke-Schule
DTSTART;TZID=Europe/Berlin:20220328T000000
DTEND;TZID=Europe/Berlin:20220328T235959
SUMMARY:Pädagogischer Ganztag / schulfrei
URL:https://carl-funke-schule.de/index.php/kalender/9-carl-funke-schule/49-
 paeadagogischer-ganztag-schulfrei
END:VEVENT
END:VCALENDAR
