BEGIN:VCALENDAR
VERSION:2.0
PRODID:-//https://carl-funke-schule.de//NONSGML kigkonsult.se iCalcreator 2.41.71//
CALSCALE:GREGORIAN
METHOD:PUBLISH
UID:36633965-3336-4338-b632-616462623834
X-WR-CALNAME:JCal Pro Kalender
X-WR-CALDESC:Ihr Online-Terminkalender
X-WR-TIMEZONE:Europe/Berlin
BEGIN:VTIMEZONE
TZID:Europe/Berlin
TZUNTIL:20271031T010000Z
BEGIN:STANDARD
TZNAME:CET
DTSTART:20251026T030000
TZOFFSETFROM:+0200
TZOFFSETTO:+0100
RDATE:20261025T030000
END:STANDARD
BEGIN:DAYLIGHT
TZNAME:CEST
DTSTART:20260329T020000
TZOFFSETFROM:+0100
TZOFFSETTO:+0200
RDATE:20270328T020000
END:DAYLIGHT
END:VTIMEZONE
BEGIN:VEVENT
UID:20220502T084500CEST-422225sITu@https://www.Carl-Funke-Schule.de/
DTSTAMP:20260424T112411Z
CATEGORIES:Carl-Funke-Schule
DTSTART;TZID=Europe/Berlin:20220502T084500
DTEND;TZID=Europe/Berlin:20220502T093000
RRULE:FREQ=DAILY;UNTIL=20220503T220000Z;INTERVAL=1
SUMMARY:Schnuppertag für unsere Schulanfänger
URL:https://carl-funke-schule.de/index.php/kalender/9-carl-funke-schule/92-
 schnuppertag-fuer-unsere-schulanfaenger
END:VEVENT
BEGIN:VEVENT
UID:20220506T170000CEST-2445kGrthw@https://www.Carl-Funke-Schule.de/
DTSTAMP:20260424T112411Z
CATEGORIES:Carl-Funke-Schule
DTSTART;TZID=Europe/Berlin:20220506T000000
DTEND;TZID=Europe/Berlin:20220506T235959
SUMMARY:Sportfest
URL:https://carl-funke-schule.de/index.php/kalender/9-carl-funke-schule/37-
 sportfest
END:VEVENT
BEGIN:VEVENT
UID:20220509T000000CEST-2737TvFNjV@https://www.Carl-Funke-Schule.de/
DTSTAMP:20260424T112411Z
CATEGORIES:Carl-Funke-Schule
DTSTART;TZID=Europe/Berlin:20220509T000000
DTEND;TZID=Europe/Berlin:20220514T010000
SUMMARY:Elternsprechtagswoche
URL:https://carl-funke-schule.de/index.php/kalender/9-carl-funke-schule/86-
 elternsprechtagswoche
END:VEVENT
BEGIN:VEVENT
UID:20220509T084500CEST-1565gzHVaa@https://www.Carl-Funke-Schule.de/
DTSTAMP:20260424T112411Z
CATEGORIES:Carl-Funke-Schule
DTSTART;TZID=Europe/Berlin:20220509T084500
DTEND;TZID=Europe/Berlin:20220509T093000
SUMMARY:Schnuppertag für unsere Schulanfänger
URL:https://carl-funke-schule.de/index.php/kalender/9-carl-funke-schule/95-
 schnuppertag-fuer-unsere-schulanfaenger
END:VEVENT
BEGIN:VEVENT
UID:20220513T100000CEST-6260Uwgwtc@https://www.Carl-Funke-Schule.de/
DTSTAMP:20260424T112411Z
CATEGORIES:OGS
DTSTART;TZID=Europe/Berlin:20220513T100000
DTEND;TZID=Europe/Berlin:20220513T110500
SUMMARY:Buchstabenfest
URL:https://carl-funke-schule.de/index.php/kalender/10-ogs/68-buchstabenfes
 t
END:VEVENT
BEGIN:VEVENT
UID:20220513T170000CEST-4020fLricN@https://www.Carl-Funke-Schule.de/
DTSTAMP:20260424T112411Z
CATEGORIES:Carl-Funke-Schule
DTSTART;TZID=Europe/Berlin:20220513T000000
DTEND;TZID=Europe/Berlin:20220513T235959
SUMMARY:Sportfest (Alternativtermin)
URL:https://carl-funke-schule.de/index.php/kalender/9-carl-funke-schule/38-
 sportfest-alternativtermin
END:VEVENT
BEGIN:VEVENT
UID:20220516T000000CEST-9680vo6HvT@https://www.Carl-Funke-Schule.de/
DTSTAMP:20260424T112411Z
CATEGORIES:Carl-Funke-Schule
DTSTART;TZID=Europe/Berlin:20220516T000000
DTEND;TZID=Europe/Berlin:20220520T000000
SUMMARY:Segelwoche Klasse 4b
URL:https://carl-funke-schule.de/index.php/kalender/9-carl-funke-schule/83-
 segelwoche-klasse-4b
END:VEVENT
BEGIN:VEVENT
UID:20220516T000000CEST-4076on0imU@https://www.Carl-Funke-Schule.de/
DTSTAMP:20260424T112411Z
CATEGORIES:Carl-Funke-Schule
DTSTART;TZID=Europe/Berlin:20220516T000000
DTEND;TZID=Europe/Berlin:20220521T000000
SUMMARY:Elternsprechtagswoche
URL:https://carl-funke-schule.de/index.php/kalender/9-carl-funke-schule/88-
 elternsprechtagswoche
END:VEVENT
BEGIN:VEVENT
UID:20220516T100000CEST-2238g5UGCn@https://www.Carl-Funke-Schule.de/
DTSTAMP:20260424T112411Z
CATEGORIES:OGS
DTSTART;TZID=Europe/Berlin:20220516T100000
DTEND;TZID=Europe/Berlin:20220516T110000
EXDATE;TZID=Europe/Berlin:20220520T100000
RRULE:FREQ=DAILY;UNTIL=20220519T220000Z;INTERVAL=1
SUMMARY:Buchstabenfest
URL:https://carl-funke-schule.de/index.php/kalender/10-ogs/52-buchstabenfes
 t
END:VEVENT
BEGIN:VEVENT
UID:20220520T150000CEST-6822p8VB23@https://www.Carl-Funke-Schule.de/
DTSTAMP:20260424T112411Z
CATEGORIES:Carl-Funke-Schule
DTSTART;TZID=Europe/Berlin:20220520T000000
DTEND;TZID=Europe/Berlin:20220520T235959
RRULE:FREQ=DAILY;COUNT=5;INTERVAL=1
SUMMARY:Segelwoche Klasse 4b
URL:https://carl-funke-schule.de/index.php/kalender/9-carl-funke-schule/76-
 segelwoche-klasse-4b
END:VEVENT
BEGIN:VEVENT
UID:20220516T100000CEST-2238g5UGCn@https://www.Carl-Funke-Schule.de/
DTSTAMP:20260424T112411Z
CATEGORIES:OGS
DTSTART;TZID=Europe/Berlin:20220520T100000
DTEND;TZID=Europe/Berlin:20220520T113000
SUMMARY:Buchstabenfest
URL:https://carl-funke-schule.de/index.php/kalender/10-ogs/56-buchstabenfes
 t
END:VEVENT
BEGIN:VEVENT
UID:20220525T080000CEST-8609vtBTOs@https://www.Carl-Funke-Schule.de/
DTSTAMP:20260424T112411Z
CATEGORIES:Carl-Funke-Schule
DESCRIPTION:<ul>\n<li>OGATA und OASE sind an diesem Tag besetzt</li>\n<li>k
 ein Schulbetrieb\, Betreuung ist aber gewährleistet</li>\n</ul>
DTSTART;TZID=Europe/Berlin:20220525T080000
DTEND;TZID=Europe/Berlin:20220525T160000
SUMMARY:Pädagogischer Planungstag
URL:https://carl-funke-schule.de/index.php/kalender/9-carl-funke-schule/91-
 paedagogischer-planungstag
X-ALT-DESC;FMTTYPE=TEXT/HTML:<ul>\n<li>OGATA und OASE sind an diesem Tag be
 setzt</li>\n<li>kein Schulbetrieb\, Betreuung ist aber gewährleistet</li>
 \n</ul>
END:VEVENT
BEGIN:VEVENT
UID:20220526T170000CEST-9972vSJlKb@https://www.ghitulescu.de/beta/CFS/
DTSTAMP:20260424T112411Z
CATEGORIES:Feiertag
DTSTART;TZID=Europe/Berlin:20220526T170000
DTEND;TZID=Europe/Berlin:20220526T180000
SUMMARY:Christi Himmelfahrt
URL:https://carl-funke-schule.de/index.php/kalender/11-feiertag/25-christi-
 himmelfahrt
END:VEVENT
BEGIN:VEVENT
UID:20220527T200000CEST-2397toG9Gz@https://www.ghitulescu.de/beta/CFS/
DTSTAMP:20260424T112411Z
CATEGORIES:Ferien
DTSTART;TZID=Europe/Berlin:20220527T000000
DTEND;TZID=Europe/Berlin:20220527T235959
SUMMARY:Brückentag - nach Christi Himmelfahrt
URL:https://carl-funke-schule.de/index.php/kalender/12-ferien/10-brueckenta
 g-nach-christi-himmelfahrt
END:VEVENT
BEGIN:VEVENT
UID:20220530T000000CEST-8136WZEE0L@https://www.Carl-Funke-Schule.de/
DTSTAMP:20260424T112411Z
CATEGORIES:Carl-Funke-Schule
DTSTART;TZID=Europe/Berlin:20220530T000000
DTEND;TZID=Europe/Berlin:20220604T000000
SUMMARY:Segelwoche Klasse 4c
URL:https://carl-funke-schule.de/index.php/kalender/9-carl-funke-schule/77-
 segelwoche-klasse-4c
END:VEVENT
END:VCALENDAR
