BEGIN:VCALENDAR
VERSION:2.0
PRODID:-//https://carl-funke-schule.de//NONSGML kigkonsult.se iCalcreator 2.41.71//
CALSCALE:GREGORIAN
METHOD:PUBLISH
UID:36303666-6333-4661-a635-303837303861
X-WR-CALNAME:JCal Pro Kalender
X-WR-CALDESC:Ihr Online-Terminkalender
X-WR-TIMEZONE:Europe/Berlin
BEGIN:VTIMEZONE
TZID:Europe/Berlin
TZUNTIL:20271031T010000Z
BEGIN:STANDARD
TZNAME:CET
DTSTART:20251026T030000
TZOFFSETFROM:+0200
TZOFFSETTO:+0100
RDATE:20261025T030000
END:STANDARD
BEGIN:DAYLIGHT
TZNAME:CEST
DTSTART:20260329T020000
TZOFFSETFROM:+0100
TZOFFSETTO:+0200
RDATE:20270328T020000
END:DAYLIGHT
END:VTIMEZONE
BEGIN:VEVENT
UID:20240501T080000UTC-020610eNnj@https://www.carl-funke-schule.de/
DTSTAMP:20260424T181605Z
CATEGORIES:Feiertag
DTSTART;TZID=Europe/Berlin:20240501T000000
DTEND;TZID=Europe/Berlin:20240501T235959
SUMMARY:Tag der Arbeit
URL:https://carl-funke-schule.de/index.php/kalender/11-feiertag/414-tag-der
 -arbeit
END:VEVENT
BEGIN:VEVENT
UID:20240509T150000UTC-2738AMGwid@https://www.carl-funke-schule.de/
DTSTAMP:20260424T181605Z
CATEGORIES:Feiertag
DTSTART;TZID=Europe/Berlin:20240509T000000
DTEND;TZID=Europe/Berlin:20240509T235959
SUMMARY:Christi Himmelfahrt
URL:https://carl-funke-schule.de/index.php/kalender/11-feiertag/351-christi
 -himmelfahrt
END:VEVENT
BEGIN:VEVENT
UID:20240510T150000UTC-11869B5uwM@https://www.carl-funke-schule.de/
DTSTAMP:20260424T181605Z
CATEGORIES:Ferien
DTSTART;TZID=Europe/Berlin:20240510T000000
DTEND;TZID=Europe/Berlin:20240510T235959
SUMMARY:Christi Himmelfahrt (beweglicher Ferientag)
URL:https://carl-funke-schule.de/index.php/kalender/12-ferien/352-christi-h
 immelfahrt-beweglicher-ferientag
END:VEVENT
BEGIN:VEVENT
UID:20240515T140000UTC-6593xLpfpH@https://www.carl-funke-schule.de/
DTSTAMP:20260424T181605Z
CATEGORIES:Ferien
DTSTART;TZID=Europe/Berlin:20240517T000000
DTEND;TZID=Europe/Berlin:20240517T235959
SUMMARY:Ausgleichstag
URL:https://carl-funke-schule.de/index.php/kalender/12-ferien/402-ausgleich
 stag
END:VEVENT
BEGIN:VEVENT
UID:20240520T150000UTC-0276U4dC8U@https://www.carl-funke-schule.de/
DTSTAMP:20260424T181605Z
CATEGORIES:Feiertag
DTSTART;TZID=Europe/Berlin:20240520T000000
DTEND;TZID=Europe/Berlin:20240520T235959
SUMMARY:Pfingstmontag
URL:https://carl-funke-schule.de/index.php/kalender/11-feiertag/354-pfingst
 montag
END:VEVENT
BEGIN:VEVENT
UID:20240521T150000UTC-6151VUXulJ@https://www.carl-funke-schule.de/
DTSTAMP:20260424T181605Z
CATEGORIES:Ferien
DTSTART;TZID=Europe/Berlin:20240521T000000
DTEND;TZID=Europe/Berlin:20240521T235959
SUMMARY:Pfingstferien
URL:https://carl-funke-schule.de/index.php/kalender/12-ferien/355-pfingstfe
 rien
END:VEVENT
BEGIN:VEVENT
UID:20240530T150000UTC-6812VhmSia@https://www.carl-funke-schule.de/
DTSTAMP:20260424T181605Z
CATEGORIES:Feiertag
DTSTART;TZID=Europe/Berlin:20240530T000000
DTEND;TZID=Europe/Berlin:20240530T235959
SUMMARY:Fronleichnam
URL:https://carl-funke-schule.de/index.php/kalender/11-feiertag/357-fronlei
 chnam
END:VEVENT
BEGIN:VEVENT
UID:20240531T150000UTC-3797Kuw36F@https://www.carl-funke-schule.de/
DTSTAMP:20260424T181605Z
CATEGORIES:Ferien
DTSTART;TZID=Europe/Berlin:20240531T000000
DTEND;TZID=Europe/Berlin:20240531T235959
SUMMARY:Fronleichnam - beweglicher Ferientag
URL:https://carl-funke-schule.de/index.php/kalender/12-ferien/358-fronleich
 nam-beweglicher-ferientag
END:VEVENT
END:VCALENDAR
